BEGIN:VCALENDAR
VERSION:2.0
PRODID:https://github.com/derhansen/sf_event_mgt
METHOD:PUBLISH
BEGIN:VEVENT
UID:14804-611@www.maine-et-loire.fr
CLASS: PUBLIC
SUMMARY:ExpÃ©rience boisÃ©e
DESCRIPTION:Dans le cadre des Rendez-vous nature 2026.\n\nExpÃ©rience boisÃ
 ©e pour mettre Ã  lâ€™honneur les arbres, ces gÃ©ants si prÃ©cieux dans no
 s quotidiens.
LOCATION:AllÃ©e de la Haloperie
DTSTAMP:20260209T153357Z
DTSTART:20260709T115539Z
DTEND:20260709T115539Z
END:VEVENT
END:VCALENDAR