BEGIN:VCALENDAR
VERSION:2.0
PRODID:https://github.com/derhansen/sf_event_mgt
METHOD:PUBLISH
BEGIN:VEVENT
UID:14710-611@www.maine-et-loire.fr
CLASS: PUBLIC
SUMMARY:Expérience colorée
DESCRIPTION:Dans le cadre des Rendez-vous nature 2026.\n\nExpérience color
 ée pour vivre un temps d’atelier artistique en pleine nature à la renc
 ontre des couleurs végétales et de leur fabrication et utilisations.
LOCATION:Parking de l'espace Sequoia
Corné
DTSTAMP:20260209T152153Z
DTSTART:20260502T115539Z
DTEND:20260502T115539Z
END:VEVENT
END:VCALENDAR