BEGIN:VCALENDAR
VERSION:2.0
PRODID:https://github.com/derhansen/sf_event_mgt
METHOD:PUBLISH
BEGIN:VEVENT
UID:14892-611@www.maine-et-loire.fr
CLASS: PUBLIC
SUMMARY:Expérience colorée
DESCRIPTION:Dans le cadre des Rendez-vous nature 2026.\n\nExpérience color
 ée pour vivre un temps d’atelier artistique en pleine nature à la renc
 ontre des couleurs végétales et de leur fabrication et utilisations. 
LOCATION:Aire de pique nique de la prée d'Erigné
Chemin des Prés
DTSTAMP:20260209T154427Z
DTSTART:20260926T115540Z
DTEND:20260926T115540Z
END:VEVENT
END:VCALENDAR