BEGIN:VCALENDAR
VERSION:2.0
PRODID:https://github.com/derhansen/sf_event_mgt
METHOD:PUBLISH
BEGIN:VEVENT
UID:14755-611@www.maine-et-loire.fr
CLASS: PUBLIC
SUMMARY:Expérience gustative
DESCRIPTION:Dans le cadre des Rendez-vous nature 2026. \n\nExpérience gus
 tative pour inviter les plantes sauvages comestibles dans vos assiettes. A
 telier cuisine parent / enfant.
LOCATION:Parking à l'entrée du château
DTSTAMP:20260209T152723Z
DTSTART:20260603T115539Z
DTEND:20260603T115539Z
END:VEVENT
END:VCALENDAR