BEGIN:VCALENDAR
VERSION:2.0
PRODID:https://github.com/derhansen/sf_event_mgt
METHOD:PUBLISH
BEGIN:VEVENT
UID:14915-611@www.maine-et-loire.fr
CLASS: PUBLIC
SUMMARY:Expérience gustative
DESCRIPTION:Dans le cadre des Rendez-vous nature 2026.\n\nExpérience gusta
 tive pour inviter les plantes sauvages comestibles dans vos assiettes. Ate
 lier cuisine parent / enfant.
LOCATION:Maison de l'environnement
DTSTAMP:20260209T154705Z
DTSTART:20261022T115540Z
DTEND:20261022T115540Z
END:VEVENT
END:VCALENDAR