BEGIN:VCALENDAR
VERSION:2.0
PRODID:https://github.com/derhansen/sf_event_mgt
METHOD:PUBLISH
BEGIN:VEVENT
UID:14788-611@www.maine-et-loire.fr
CLASS: PUBLIC
SUMMARY:Exploration Nature
DESCRIPTION:Dans le cadre des Rendez-vous nature 2026.\n\nDécouvrez en aut
 onomie et en famille, l’étang de Saint-Aubin tout au long d’un parcou
 rs agrémenté d’activités nature et ludiques ! Tel un explorateur, col
 lectez vos petits trésors tout au long de cette exploration naturaliste a
 fin de repartir avec un merveilleux souvenir ! Chaque famille part avec un
  sac contenant du matériel nécessaire aux activités ainsi qu’un roadb
 ook. La distance du parcours est de 3 km.
LOCATION:Base de loisir
23 rue des étangs
Pouancé
DTSTAMP:20260209T153230Z
DTSTART:20260620T115539Z
DTEND:20260620T115539Z
END:VEVENT
END:VCALENDAR