BEGIN:VCALENDAR
VERSION:2.0
PRODID:https://github.com/derhansen/sf_event_mgt
METHOD:PUBLISH
BEGIN:VEVENT
UID:14853-611@www.maine-et-loire.fr
CLASS: PUBLIC
SUMMARY:Extraits choisis
DESCRIPTION:Dans le cadre des Rendez-vous nature 2026.\n\nLes notes d’un 
 instrument de musique se mêlent aux mots d’une conteuse ; venez découv
 rir des textes, des albums ou peut-être des contes qui célèbreront la f
 aune et la flore du lieu.
LOCATION:Parking Parc Balzac derrière la guinguette
DTSTAMP:20260209T153948Z
DTSTART:20260823T115539Z
DTEND:20260823T115539Z
END:VEVENT
END:VCALENDAR