BEGIN:VCALENDAR
VERSION:2.0
PRODID:https://github.com/derhansen/sf_event_mgt
METHOD:PUBLISH
BEGIN:VEVENT
UID:14781-611@www.maine-et-loire.fr
CLASS: PUBLIC
SUMMARY:FabriK' ton nichoir !
DESCRIPTION:Dans le cadre des Rendez-vous nature 2026.\n\nÀ l'occasion des
  Nuits des Forêts, aux côtés de François, construisez votre propre nic
 hoir à oiseaux ! Vous repartirez ensuite avec votre création ainsi que d
 es conseils pour son installation au jardin une fois rentré chez vous.\n\
 nPrévoir chaussures fermées, vêtements et gants adaptés au bricolage.
LOCATION:Carrefour du Roi René
Le Guédeniau
DTSTAMP:20260209T153153Z
DTSTART:20260613T115539Z
DTEND:20260613T115539Z
END:VEVENT
END:VCALENDAR