BEGIN:VCALENDAR
VERSION:2.0
PRODID:https://github.com/derhansen/sf_event_mgt
METHOD:PUBLISH
BEGIN:VEVENT
UID:14209-569@www.maine-et-loire.fr
CLASS: PUBLIC
SUMMARY:Festival Anjou Loir et Sarthe
DESCRIPTION:Festival organisé par la Communauté de communes Anjou Loir et
  Sarthe pour toute la famille
LOCATION:
DTSTAMP:20251230T111953Z
DTSTART:20260529T220000Z
DTEND:20260530T220000Z
END:VEVENT
END:VCALENDAR