BEGIN:VCALENDAR
VERSION:2.0
PRODID:https://github.com/derhansen/sf_event_mgt
METHOD:PUBLISH
BEGIN:VEVENT
UID:15013-569@www.maine-et-loire.fr
CLASS: PUBLIC
SUMMARY:Festival Beethoven Saison 2 - 5ᵉ symphonie
DESCRIPTION:Déroulé de l'événement :\n\nCarl Maria von Weber : Der Frei
 schütz, ouverture\n\nMax Bruch : Concerto pour violon n°1\n\nentracte\n\
 nLudwig van Beethoven : Symphonie n°5\n\nMatthieu Handtschoewercker, viol
 on supersoliste de l'ONPL\n\nSascha Goetzel, direction
LOCATION:Centre de Congrès d'Angers
33 Boulevard Carnot
DTSTAMP:20260130T150331Z
DTSTART:20260509T220000Z
DTEND:20260511T220000Z
END:VEVENT
END:VCALENDAR