BEGIN:VCALENDAR
VERSION:2.0
PRODID:https://github.com/derhansen/sf_event_mgt
METHOD:PUBLISH
BEGIN:VEVENT
UID:15014-569@www.maine-et-loire.fr
CLASS: PUBLIC
SUMMARY:Festival Beethoven saison 2 - L'hymne à la joie
DESCRIPTION:Déroulé de l'événement :\n\nEmilie Mayer : Ouverture de Fau
 st\n\nentracte :\n\nLudwig van Beethoven | Symphonie n°9\n\nHelen Kearns,
  soprano\n\nEva Zaïcik, mezzo-soprano\n\nJinxu Xiahou, ténor\n\nBenjamin
  Appl, baryton\n\nChoeur de l'ONPL - Valérie Fayet, cheffe de choeur\n\nC
 hoeur mixte du Conservatoire à rayonnement régional de Nantes - Christel
  Patey, cheffe de choeur\n\nSascha Goetzel, direction
LOCATION:Centre de Congrès d'Angers
33 Boulevard Carnot
DTSTAMP:20260130T151901Z
DTSTART:20260613T220000Z
DTEND:20260615T220000Z
END:VEVENT
END:VCALENDAR