BEGIN:VCALENDAR
VERSION:2.0
PRODID:https://github.com/derhansen/sf_event_mgt
METHOD:PUBLISH
BEGIN:VEVENT
UID:15291-569@www.maine-et-loire.fr
CLASS: PUBLIC
SUMMARY:Festival de jeux de rôle Meujeuteries & Merveilles
DESCRIPTION:Du 25 & 26 avril, l'association l'Auberge des Rêveurs organise
  un festival dédié aux jeux de rôle à Corné (49)\n\nAu programme :\n\
 n 	de nombreuses parties de jeux de rôle, avec inscription préalable sur
  sur place 	un bar à jeux de rôles, en accès libre, pour des parties im
 provisées 	des tables rondes, pour échanger sur plein de sujets autour d
 u jeu de rôle 	des artistes & illustrateurs, avec qui échanger et qui pr
 ésenteront leurs créations 
LOCATION:Espace des 3 Cerisiers
2 rue de Bellevue à Corné
DTSTAMP:20260331T122622Z
DTSTART:20260424T220000Z
DTEND:20260425T220000Z
END:VEVENT
END:VCALENDAR