BEGIN:VCALENDAR
VERSION:2.0
PRODID:https://github.com/derhansen/sf_event_mgt
METHOD:PUBLISH
BEGIN:VEVENT
UID:15056-1587@www.maine-et-loire.fr
CLASS: PUBLIC
SUMMARY:Festival du Nouveau Théâtre Populaire
DESCRIPTION:L’aventure du Nouveau Théâtre Populaire est née à l’ét
 é 2009. La troupe, composée d’artistes, a construit un théâtre en pl
 ein air pour y monter des spectacles populaires, classiques ou contemporai
 ns, qui sont présentés chaque soir au public. En matinée, deux spectacl
 es sont à découvrir avec les enfants. Cette XVIIe édition est consacré
 e aux reprises des plus grands succès du NTP !
LOCATION:Maison du théâtre
8 rue Célestine Garnier
Fontaine-Guérin
DTSTAMP:20260203T135325Z
DTSTART:20260811T090000Z
DTEND:20260827T183000Z
END:VEVENT
END:VCALENDAR