BEGIN:VCALENDAR
VERSION:2.0
PRODID:https://github.com/derhansen/sf_event_mgt
METHOD:PUBLISH
BEGIN:VEVENT
UID:15312-569@www.maine-et-loire.fr
CLASS: PUBLIC
SUMMARY:Festival Thomas Ranch - 26, 27 & 28 juin 2026
DESCRIPTION:Un week-end d’immersion 100 % américain aux portes d’Anger
 s\n\nLe Thomas Ranch Festival revient à Contigné du 26 au 28 juin 2026, 
 au cœur des Hauts-d’Anjou, pour un nouveau week-end placé sous le sign
 e de la culture 100% américaine et western. Installé sur un site excepti
 onnel de 70 hectares, au sein d’un véritable ranch, l’événement pro
 pose une immersion totale dans l’univers américain, à seulement 25 min
 utes au Nord d’Angers.\n\nCréé par Jacky et Stéphanie Thomas, passion
 nés de culture américaine, le festival s’est imposé au fil des année
 s comme un rendez-vous incontournable pour les amateurs de musique, de dan
 se country, d’animations western, de motos, de véhicules américains et
  d’ambiances conviviales. Porté par une forte dynamique bénévole, le 
 Festival Thomas Ranch se distingue par son esprit familial, chaleureux et 
 fédérateur.\n\nUNE PROGRAMMATION RICHE ET DÉPAYSANTE\n\n 	Concerts & da
 nse \n\nTout au long du week-end, le public est invité à profiter de con
 certs country et rock, ainsi que d’une grande piste de danse ouverte aux
  amateurs de danse country, line dance et rock’n’roll. Une ambiance fe
 stive et authentique, rythmée par de la musique live et le plaisir de dan
 ser ensemble.\n\n 	Traditions et animations western \n\nLe festival met é
 galement à l’honneur les traditions du ranch et de l’Ouest américain
 , avec notamment : des animations équestres, des shows de tri de bétail,
  ainsi que des démonstrations inspirées de l’équitation western.\n\nV
 éhicules américains, randonnées motos & esprit US\n\nPassionnés de bel
 les mécaniques et curieux pourront découvrir une exposition de voitures 
 et motos américaines, contribuant à l’atmosphère unique du festival. 
 Deux randonnées motos sont également organisées lors de ce weekend (1 l
 e samedi en fin de journée et 1 le dimanche matin) Rassemblements, échan
 ges et balades font partie intégrante de cette célébration de la cultur
 e US.\n\n 	Un festival pour tous \n\nLe Thomas Ranch Festival propose éga
 lement : un village d’exposants et d’artisans, des animations pour to
 us les âges, un espace de restauration et de convivialité, une randonn
 ée pédestre le dimanche matin avec deux circuits proposés ainsi que de
 s zones dédiées aux camping-cars, permettant aux festivaliers de vivre l
 ’événement sur plusieurs jours.\n\nUNE EXPÉRIENCE IMMERSIVE ET CONVIV
 IALE\n\nPlus qu’un simple événement, le Thomas Ranch Festival est une 
 véritable expérience immersive, où musique, danse, traditions, passion 
 et partage se rencontrent. Que l’on vienne en famille, entre amis, en cl
 ub ou en simple curieux, chacun trouve sa place dans cette parenthèse hor
 s du temps, au cœur de l’Amérique.\n\nUnivers : 100 % western & améri
 cain
LOCATION:THOMAS RANCH 
Lieu dit la Grand Maison
Contigné
DTSTAMP:20260420T073537Z
DTSTART:20260625T220000Z
DTEND:20260627T220000Z
END:VEVENT
END:VCALENDAR