BEGIN:VCALENDAR
VERSION:2.0
PRODID:https://github.com/derhansen/sf_event_mgt
METHOD:PUBLISH
BEGIN:VEVENT
UID:14754-611@www.maine-et-loire.fr
CLASS: PUBLIC
SUMMARY:Fête de la biodiversité 2026
DESCRIPTION:Dans le cadre des Rendez-vous nature 2026.\n\nLe Département d
 e Maine-et-Loire convie les amoureux de la nature à une journée festive 
 et familiale à Boudré, pour faire découvrir la richesse de ce lieu en s
 ’amusant, à tout âge !\n\nAnimations village\n\nEn continu, de 10 h à
  18 h, sans inscription.\n\n 	Le monde fascinant des araignées : nouveau 
 regard, dépassez vos peurs et découvrez leur incroyable diversité 	Cycl
 e de l’eau : comprendre le cycle de l’eau, ressource essentielle 	Jeu 
 de l’oie : un grand jeu biodiversité en extérieur ! 	Expo photo : choi
 sissez votre cliché préféré parmi une sélection de 20 photos d’amat
 eurs 	La Flore de Boudré : tous les secrets des plantes de Boudré 	Oisea
 ux et petits animaux : observation des oiseaux et des petits mammifères d
 iscrets de nos milieux naturels 	Dé’tente : contes captivants, au calme
  	Empreintes d’animaux : observation des traces et moulage en terre de p
 etites bêtes 	Biodiversité du Loir : découverte de la faune et la flore
  aquatiques du Loir 	Atelier buissonnier : vannerie et création en jonc t
 ressé 	Toile en encre végétale : réalisation d’une toile en laine te
 intée avec des encres végétales préparées sur place 	Jeux biodiversit
 é : jeux pour comprendre la biodiversité et ses enjeux \n\nPromenades an
 imées \n\nInscription sur place, au stand d’accueil.\n\n 	La forêt en
  calèche : toutes les demi-heures, de 10 h 30 à 12 h 30, puis de 14 h à
  17 h 30. 10 personnes par promenade. 	Grimpe dans les arbres : à 11 h, 1
 3 h 30, 14 h 30, 15 h 30 et 16 h 30. 16 personnes par escalade. 	Rallye ph
 oto avec smartphone, parents et enfants : à 11 h, 14 h et 16 h 30. 16 per
 sonnes par atelier. 	Balade naturaliste : à 11 h et 14 h 30. 25 personnes
  par promenade. 	Concert de la Cie Crock’Notes : à 11 h 30, 14 h 30 et 
 17 h. 50 personnes par spectacle. 	Traces et indices : à 14 h 30 et 16 h 
 30. 25 personnes par promenade. 	Gestion des landes avec tarpans : à 16 h
 . 30 personnes par promenade. 	« Dans ta peau » : découvrez l’install
 ation artistique de Marine Class, artiste invitée de Prenez l’Art !, la
  saison d’art contemporain en Anjou, à 11 h 30 et 14 h 30. 25 personnes
  par promenade. \n\nParking et accès PMR : ens.anjou@maine-et-loire.fr\n\
 nRestauration sur place possible (amenez vos contenants). Chiens admis si 
 tenus en laisse.
LOCATION:Hippodrome de Boudré
DTSTAMP:20260417T084538Z
DTSTART:20260531T115539Z
DTEND:20260531T115539Z
END:VEVENT
END:VCALENDAR