BEGIN:VCALENDAR
VERSION:2.0
PRODID:https://github.com/derhansen/sf_event_mgt
METHOD:PUBLISH
BEGIN:VEVENT
UID:14762-611@www.maine-et-loire.fr
CLASS: PUBLIC
SUMMARY:Flore menacée
DESCRIPTION:Dans le cadre des Rendez-vous nature 2026.\n\nLe site des Varen
 nes accueille des espèces de plantes extrèmement rares dans la région, 
 voire en France ! Partez, avec un naturaliste du Conservatoire, à la rech
 erche de ces espèces ! Entre découverte du site et jeu de piste, vos yeu
 x seront mis à contribution pour inventorier les plantes et garantir leur
  préservation
LOCATION:Parking
Chemin de la Jubeaudière
DTSTAMP:20260209T152759Z
DTSTART:20260606T115539Z
DTEND:20260606T115539Z
END:VEVENT
END:VCALENDAR