BEGIN:VCALENDAR
VERSION:2.0
PRODID:https://github.com/derhansen/sf_event_mgt
METHOD:PUBLISH
BEGIN:VEVENT
UID:13302-569@www.maine-et-loire.fr
CLASS: PUBLIC
SUMMARY:Folies Comedy Club
DESCRIPTION:Envie d’une soirée 100 % rire ? Le Folies Comedy Club vous d
 onne rendez-vous aux Folies Angevines pour un plateau de stand-up explosif
  !\n\nQue vous soyez amateur de punchlines affûtées ou de récits absurd
 es, venez découvrir le meilleur du stand-up angevin dans l’un des plus 
 grands Comedy Clubs de l’Ouest. Une soirée, cinq artistes (voire plus !
 ), et une programmation surprise et différente chaque semaine pour un max
 imum de rires !
LOCATION:Tout le département
DTSTAMP:20250409T074544Z
DTSTART:20250412T220000Z
DTEND:20250412T220000Z
END:VEVENT
END:VCALENDAR