BEGIN:VCALENDAR
VERSION:2.0
PRODID:https://github.com/derhansen/sf_event_mgt
METHOD:PUBLISH
BEGIN:VEVENT
UID:15206-569@www.maine-et-loire.fr
CLASS: PUBLIC
SUMMARY:Forum de la Petite Enfance
DESCRIPTION:Pour la 2e Ã©dition, L'Ã‰tablissement les Buissonnets organise 
 le mercredi 18 mars 2026, de 10 h Ã  12 h 30 puis de 14 h Ã  16 h 30, un f
 orum de la petite enfance.\n\nIl s'adresse Ã  tous les futurs parents, par
 ents de jeunes enfants, les personnes du mÃ©tier de la petite enfance et l
 es futurs apprenants.\n\nSur un mÃªme lieu, ils pourront dÃ©couvrir toutes
  les ressources dans le domaine de la petite enfance. Au cours de la journ
 Ã©e, de nombreux ateliers seront Ã©galement proposÃ©s en lien avec la thÃ©
 matique : Â« Des Ã©quilibres Â».\n\nLa semaine nationale de la petite enfa
 nce, qu'est ce que c'est ? C'est un Ã©vÃ©nement fÃ©dÃ©rateur rÃ©unissant c
 haque annÃ©e les enfants et leurs familles les professionnels et les colle
 ctivitÃ©s pour sensibiliser autour des enjeux de l'Ã©veil et du dÃ©veloppe
 ment des tout petits.\n\nLes professionnels de la petite enfance occupent 
 une place centrale et indispensable dans le dÃ©veloppement des enfants. L'
 Ã©vÃ©nement est une occasion privilÃ©giÃ©e pour mettre en lumiÃ¨re ces act
 eurs clÃ©s, reconnaÃ®tre leur contribution inestimable et cÃ©lÃ©brer leur 
 savoir faire. Cette semaine sensibilise Ã©galement le grand public et les 
 institutions Ã  l'importance de ces mÃ©tiers.\n\nLa semaine nationale de l
 a petite enfance renforce les liens entre les familles les professionnels 
 et les collectivitÃ©s, en unissant tous ces acteurs, elle permet de promou
 voir une approche centrÃ©e sur le bienÃªtre des enfants de la naissance Ã 
  6 ans.\n\nCet Ã©vÃ©nement se structura autour de trois grands pÃ´les :\n\
 nPÃ´le Â« Formation Â» : Ce pÃ´le a pour but dâ€™informer les participants
  sur les diffÃ©rentes formations disponibles dans le secteur de la petite 
 enfance et de l'enfance. Des centres de formation et des formateurs seront
  prÃ©sents pour expliquer leurs programmes et rÃ©pondre aux questions des 
 visiteurs.\n\nPÃ´le Â«Â Recrutement Â»Â : Lâ€™objectif de ce pÃ´le est de 
 favoriser la rencontre entre les structures et les candidats potentiels. L
 es structures auront lâ€™opportunitÃ© de prÃ©senter leurs offres d'emploi,
  organiser des sessions de "job dating", mais aussi expliquer leur fonctio
 nnement en matiÃ¨re d'accueil de stagiaires et d'apprentis.\n\nPÃ´le Â«Â D
 Ã©couverte des mÃ©tiers Â» : Ce pÃ´le permettra de faire dÃ©couvrir les mÃ
 ©tiers de la petite enfance et de l'enfance de maniÃ¨re ludique et interac
 tive. Des professionnels, des Ã©tudiants, des stagiaires et des apprentis 
 seront prÃ©sents pour Ã©changer avec les visiteurs, tÃ©moigner de leurs pa
 rcours et faire dÃ©couvrir les mÃ©tiers Ã  travers des vidÃ©os ou des anim
 ations.\n\nEn parallÃ¨le, les apprenants du CAP Accompagnant Ã‰ducatif Pet
 ite Enfance proposeront des espaces de jeux adaptÃ©s pour les enfants de 0
  Ã  6 ans, tout au long de la journÃ©e. Cela permettra aux familles et aux
  professionnels prÃ©sents dâ€™Ã©changer tout en offrant un moment ludique 
 et Ã©ducatif aux plus jeunes. (Ã‰quilibre alimentaire, Ã‰quilibre moteur a
 vec des parcours de motricitÃ©, atelier cirque, construction, jeux d'Ã©vei
 l, Ã©quilibre sensoriel avec un parcours nature et pour finir sur l'Ã©quil
 ibre affectif avec un espace dÃ©tente.\n\nCet Ã©vÃ©nement est ouvert Ã©gal
 ement Ã  toutes les structures de la petite enfance et nous serions heureu
 x de les voir rejoindre cet Ã©vÃ©nement.\n\nNous serions ravis de pouvoir 
 compter sur votre prÃ©sence et de faire de cet Ã©vÃ©nement un moment enric
 hissant pour tous les acteurs du secteur.
LOCATION:LycÃ©e les Buissonnets
41 avenue Maurice Mailfert
DTSTAMP:20260316T084751Z
DTSTART:20260317T230000Z
DTEND:20260317T230000Z
END:VEVENT
END:VCALENDAR