BEGIN:VCALENDAR
VERSION:2.0
PRODID:https://github.com/derhansen/sf_event_mgt
METHOD:PUBLISH
BEGIN:VEVENT
UID:15259-570@www.maine-et-loire.fr
CLASS: PUBLIC
SUMMARY:Frankenstein
DESCRIPTION:Venez dÃ©couvrir la nouvelle version du cÃ©lÃ¨bre mythe inventÃ
 © par Mary Shelley : une aventure fantastique, mais aussi une histoire sur
  l'art d'apprendre Ã  aimer les monstres...
LOCATION:PrÃ©-Vert, parvis de la salle de l'Art Image
Chemin de Parthenay
DTSTAMP:20260326T141036Z
DTSTART:20260910T220000Z
DTEND:20260910T220000Z
END:VEVENT
END:VCALENDAR