BEGIN:VCALENDAR
VERSION:2.0
PRODID:https://github.com/derhansen/sf_event_mgt
METHOD:PUBLISH
BEGIN:VEVENT
UID:15257-570@www.maine-et-loire.fr
CLASS: PUBLIC
SUMMARY:Frankenstein
DESCRIPTION:Venez dÃ©couvrir la nouvelle version du cÃ©lÃ¨bre mythe inventÃ
 © par Mary Shelley : une aventure fantastique, mais aussi une histoire sur
  l'art d'apprendre Ã  aimer les monstres...
LOCATION:AmphithÃ©Ã¢tre gallo-romain
DTSTAMP:20260326T140758Z
DTSTART:20260903T220000Z
DTEND:20260903T220000Z
END:VEVENT
END:VCALENDAR