BEGIN:VCALENDAR
VERSION:2.0
PRODID:https://github.com/derhansen/sf_event_mgt
METHOD:PUBLISH
BEGIN:VEVENT
UID:13888-570@www.maine-et-loire.fr
CLASS: PUBLIC
SUMMARY:Frigo - opus 2
DESCRIPTION:Frigo, personnage corrosif et attachant, s’éprend d’un pro
 jet aussi absurde que vital. Celui de décoller, harnaché à son fidèle 
 acolyte, son réfrigérateur transformé en fusée.
LOCATION:En extérieur
DTSTAMP:20250724T141043Z
DTSTART:20260605T220000Z
DTEND:20260605T220000Z
END:VEVENT
END:VCALENDAR