BEGIN:VCALENDAR
VERSION:2.0
PRODID:https://github.com/derhansen/sf_event_mgt
METHOD:PUBLISH
BEGIN:VEVENT
UID:14905-611@www.maine-et-loire.fr
CLASS: PUBLIC
SUMMARY:Géologie et terroir du Layon
DESCRIPTION:Dans le cadre des Rendez-vous nature 2026.\n\nLe coteau du Layo
 n est un haut lieu de production de vin depuis près de mille ans, notamme
 nt de vins sucrés qui étaient servis à la table des rois. La configurat
 ion topographique et la géologie exceptionnelle permettent ce petit mirac
 le, mais le changement climatique rebat les cartes. Balade dans les vignes
  escarpées de la réserve du Pont-Barré pour comprendre comment un même
  cépage peut donner des vins extrêmement différents en fonction de la g
 éologie, des pentes, de l’exposition, et bien sûr de la main du la vig
 neron.
LOCATION:Parking du Pont Barré
DTSTAMP:20260209T154607Z
DTSTART:20261017T115540Z
DTEND:20261017T115540Z
END:VEVENT
END:VCALENDAR