BEGIN:VCALENDAR
VERSION:2.0
PRODID:https://github.com/derhansen/sf_event_mgt
METHOD:PUBLISH
BEGIN:VEVENT
UID:14259-570@www.maine-et-loire.fr
CLASS: PUBLIC
SUMMARY:Goodbye Persil
DESCRIPTION:Deux frères partis sont partis pour une mission suspecte. Disc
 rétion, habileté et complicité seront les maîtres mots pour atteindre 
 leur objectif.
LOCATION:Cour de la mairie
DTSTAMP:20260106T150715Z
DTSTART:20260702T220000Z
DTEND:20260702T220000Z
END:VEVENT
END:VCALENDAR