BEGIN:VCALENDAR
VERSION:2.0
PRODID:https://github.com/derhansen/sf_event_mgt
METHOD:PUBLISH
BEGIN:VEVENT
UID:14872-611@www.maine-et-loire.fr
CLASS: PUBLIC
SUMMARY:Goûtons aux fruits sauvages
DESCRIPTION:Dans le cadre des Rendez-vous nature 2026.\n\nAllez à la déco
 uverte des fruits et baies sauvages. Identifiez les fruits comestibles et 
 des fruits toxiques, faites un jus avec votre récolte et dégustez-le !
LOCATION:Lieu communiqué à l'inscription
DTSTAMP:20260209T154236Z
DTSTART:20260905T115540Z
DTEND:20260905T115540Z
END:VEVENT
END:VCALENDAR