BEGIN:VCALENDAR
VERSION:2.0
PRODID:https://github.com/derhansen/sf_event_mgt
METHOD:PUBLISH
BEGIN:VEVENT
UID:14789-611@www.maine-et-loire.fr
CLASS: PUBLIC
SUMMARY:GraminÃ©es et cyanotypes
DESCRIPTION:Dans le cadre des Rendez-vous nature 2026.\n\nLes graminÃ©es so
 nt des plantes peu connues aux formes Ã©lÃ©gantes. Cette animation est une
  invitation Ã  la dÃ©couverte de ces derniÃ¨res tout en rÃ©alisant une crÃ
 ©ation via la technique du cyanotype. Venez seul ou en famille !
LOCATION:Aire de pique-nique
La JubaudiÃ¨re
DTSTAMP:20260209T153235Z
DTSTART:20260620T115539Z
DTEND:20260620T115539Z
END:VEVENT
END:VCALENDAR