BEGIN:VCALENDAR
VERSION:2.0
PRODID:https://github.com/derhansen/sf_event_mgt
METHOD:PUBLISH
BEGIN:VEVENT
UID:14236-570@www.maine-et-loire.fr
CLASS: PUBLIC
SUMMARY:Gravir
DESCRIPTION:Autour d’une grande structure portant un cadre aérien, deux 
 jeunes acrobates pleines de punch en font voir de toutes les couleurs aux 
 spectateurs.
LOCATION:Stade de Cheffes
DTSTAMP:20251231T141857Z
DTSTART:20260530T220000Z
DTEND:20260530T220000Z
END:VEVENT
END:VCALENDAR