BEGIN:VCALENDAR
VERSION:2.0
PRODID:https://github.com/derhansen/sf_event_mgt
METHOD:PUBLISH
BEGIN:VEVENT
UID:14326-569@www.maine-et-loire.fr
CLASS: PUBLIC
SUMMARY:Greffage et écussonnage
DESCRIPTION:Animation 123 jardin ! de l’association Horizon Bocage\n\nVen
 ez découvrir le greffage et l’écussonnage avec un passionné. La greff
 e en écusson est une technique de multiplication très utilisée qui s’
 applique (mais pas seulement) sur les arbres fruitiers et les rosiers.\n\n
 Venez avec un petit couteau ou votre matériel de greffage. Les débutants
  sont les bienvenus !\n\nSi vous avez des végétaux que vous souhaitez ut
 iliser en greffage, apportez les.
LOCATION:Jardin des Cloîtres
DTSTAMP:20260119T130838Z
DTSTART:20260828T220000Z
DTEND:20260828T220000Z
END:VEVENT
END:VCALENDAR