BEGIN:VCALENDAR
VERSION:2.0
PRODID:https://github.com/derhansen/sf_event_mgt
METHOD:PUBLISH
BEGIN:VEVENT
UID:14849-611@www.maine-et-loire.fr
CLASS: PUBLIC
SUMMARY:Grimpe d'arbre et biodiversité
DESCRIPTION:Dans le cadre des Rendez-vous nature 2026.\n\nVenez découvrir 
 la grimpe d'arbre (et donc l'arbre !) et les chauves-souris. Activité 100
  % immersive ! Apprenez à grimper et découvrir la canopée en cherchant
  les chauves-souris.
LOCATION:Manoir au fond du parc. Parking près des salle à louer
DTSTAMP:20260209T153928Z
DTSTART:20260821T115539Z
DTEND:20260821T115539Z
END:VEVENT
END:VCALENDAR