BEGIN:VCALENDAR
VERSION:2.0
PRODID:https://github.com/derhansen/sf_event_mgt
METHOD:PUBLISH
BEGIN:VEVENT
UID:14920-611@www.maine-et-loire.fr
CLASS: PUBLIC
SUMMARY:Grimpe d'arbre et biodiversitĂ©
DESCRIPTION:Dans le cadre des Rendez-vous nature 2026.\n\nVenez apprendre Ă
   grimper aux arbres, dĂ©couvrir la canopĂ©e et connaitre les oiseaux de l
 a forĂȘt ! Un leger briefing, et c'est parti pour les cimes. Plein de chos
 es Ă  dĂ©couvrir sur la vie de la forĂȘt.
LOCATION:Parking Ă  l'entrĂ©e du Bois
DTSTAMP:20260209T154733Z
DTSTART:20261026T125540Z
DTEND:20261027T125540Z
END:VEVENT
END:VCALENDAR