BEGIN:VCALENDAR
VERSION:2.0
PRODID:https://github.com/derhansen/sf_event_mgt
METHOD:PUBLISH
BEGIN:VEVENT
UID:14848-611@www.maine-et-loire.fr
CLASS: PUBLIC
SUMMARY:Grimpe d'arbre et biodiversité
DESCRIPTION:Dans le cadre des Rendez-vous nature 2026.\n\nVenez découvrir 
 la grimpe d'arbre (et donc l'arbre !) et les chauves-souris avec Adeline, 
 experte de la Ligue de Protection des Oiseaux et Cyril du Dédale des cime
 s. Activité 100 % immersive ! Apprenez à grimper et à découvrir la ca
 nopée en cherchant les chauves-souris.
LOCATION:Manoir au fond du parc. Parking près des salle à louer
DTSTAMP:20260209T153902Z
DTSTART:20260820T115539Z
DTEND:20260820T115539Z
END:VEVENT
END:VCALENDAR