BEGIN:VCALENDAR
VERSION:2.0
PRODID:https://github.com/derhansen/sf_event_mgt
METHOD:PUBLISH
BEGIN:VEVENT
UID:14753-611@www.maine-et-loire.fr
CLASS: PUBLIC
SUMMARY:Herbier photographique
DESCRIPTION:Dans le cadre des Rendez-vous nature 2026.\n\nEncadrés par les
  photographes nature Fabien Fougeroux et Fabrice Lenfant, apprenez la tech
 nique toute particulière de l’herbier photographique pour immortaliser 
 les plantes du lieu sans avoir à les cueillir. L’occasion d’en appren
 dre plus sur les sujets choisis. Les fonds blancs et noirs sont fournis. V
 otre appareil photo doit posséder un sélecteur du mode d’exposition P/
 A/S/M. En cas de doute, veuillez prendre contact avec Fabien Fougeroux.
LOCATION:Guinguette
57 Route de Port Thibault
DTSTAMP:20260209T152705Z
DTSTART:20260530T115539Z
DTEND:20260530T115539Z
END:VEVENT
END:VCALENDAR