BEGIN:VCALENDAR
VERSION:2.0
PRODID:https://github.com/derhansen/sf_event_mgt
METHOD:PUBLISH
BEGIN:VEVENT
UID:15248-1587@www.maine-et-loire.fr
CLASS: PUBLIC
SUMMARY:Humankind Quentin Lourties
DESCRIPTION:Formé au Conservatoire National Supérieur de Musique et de Da
 nse de Paris, le trompettiste et compositeur gersois Quentin Lourtiesnourr
 it depuis toujours une fascination pour les grands ensembles, notamment de
  jazz.\n\nAlors, en 2023, lorsqu’il décide d’enregistrer son tout pre
 mier album, c’est vers le big band qu’il se tourne tout naturellement.
  Il y réunit la nouvelle garde du jazz français et des musiciens de stud
 io expérimentés. Entre les murs du mythique Studio Ferber, Quentin compo
 se et enregistre 8 pièces originales d’une intensité folle, et jette u
 n regard désabusé sur l’état du monde actuel.  \n\nLa musique compos
 ée permet la rencontre entre le jazz (avec des inspirations comme Duke El
 lington, Bob Brookmeyer, Vince Mendoza ou Maria Schneider) et le classique
  (s’inspirant là de Stravinsky, Ravel, Boulanger, Holst). Elle est tout
 e à la fois accessible et élaborée, sans jamais perdre l’auditeur. Su
 rtout, elle flirte constamment avec la musique de film, tant l’écriture
  de Quentin Lourties semble dépeindre des scènes de cinéma.  Humankind
 , c’est une déclaration d’amour à la musique orchestrale et aux musi
 ciens, à l’heure où les grandes formations se font plus rares. 
LOCATION:Théâtre Le Dôme
Place de la Bilange
DTSTAMP:20260325T133205Z
DTSTART:20260530T082100Z
DTEND:20260530T092100Z
END:VEVENT
END:VCALENDAR