BEGIN:VCALENDAR
VERSION:2.0
PRODID:https://github.com/derhansen/sf_event_mgt
METHOD:PUBLISH
BEGIN:VEVENT
UID:14256-570@www.maine-et-loire.fr
CLASS: PUBLIC
SUMMARY:I killed the monster
DESCRIPTION:Dans le village de Brognon, tout est calme. Sauf Daniel, qui es
 t un peu agité du bocal… Il a reçu un médicament expérimental, venu 
 des US, cela ne peut que lui faire du bien...
LOCATION:Ecole maternelle Anne Brontë
1 rue Charlemagne
DTSTAMP:20260106T150301Z
DTSTART:20260505T220000Z
DTEND:20260505T220000Z
END:VEVENT
END:VCALENDAR