BEGIN:VCALENDAR
VERSION:2.0
PRODID:https://github.com/derhansen/sf_event_mgt
METHOD:PUBLISH
BEGIN:VEVENT
UID:14918-611@www.maine-et-loire.fr
CLASS: PUBLIC
SUMMARY:Identifiez, tressez, localisez
DESCRIPTION:Dans le cadre des Rendez-vous nature 2026.\n\nAvec Christelle B
 rizard des Pieds Anjoués, apprenez à reconnaître les végétaux tressab
 les. Vous vous initierez à la vannerie buissonnière avec des végétaux 
 trouvés sur place pour mieux comprendre leur utilité et les techniques d
 e vannerie qui peuvent y être associées. Vous partagerez vos découverte
 s pour contribuer à un atlas de la biodiversité locale.
LOCATION:Salle Saint-Maurille
28 avenue Auguste Defois
DTSTAMP:20260209T154722Z
DTSTART:20261023T115540Z
DTEND:20261023T115540Z
END:VEVENT
END:VCALENDAR