BEGIN:VCALENDAR
VERSION:2.0
PRODID:https://github.com/derhansen/sf_event_mgt
METHOD:PUBLISH
BEGIN:VEVENT
UID:15318-569@www.maine-et-loire.fr
CLASS: PUBLIC
SUMMARY:Il était une feuille
DESCRIPTION:Imaginez ! Une violoncelliste, un pianiste, des contes fantasti
 ques au beau milieu des chênes, sur un tapis de feuilles, de mousses ou d
 e fougères. Au cœur d’une forêt, dans un parc ou un jardin, laissez-v
 ous charmer par les histoires de Desnos, Gougaud et bien d’autres. Ces c
 ontes et ces poèmes choisis vous feront voyager dans pays arides, le long
  d’une feuille, sous une écorce, ou bien encore dans des forêts magiqu
 es. La force des mots et des musiques invitent à la contemplation, à la 
 rêverie tout en interrogeant nos peurs et notre humanité.
LOCATION:Parc du Château de Launey-Baffert
Chavaignes
DTSTAMP:20260422T081120Z
DTSTART:20260723T220000Z
DTEND:20260723T220000Z
END:VEVENT
END:VCALENDAR