BEGIN:VCALENDAR
VERSION:2.0
PRODID:https://github.com/derhansen/sf_event_mgt
METHOD:PUBLISH
BEGIN:VEVENT
UID:14782-611@www.maine-et-loire.fr
CLASS: PUBLIC
SUMMARY:Il était une feuille
DESCRIPTION:Dans le cadre des Rendez-vous nature 2026.\n\nÀ l'occasion des
  Nuits des Forêts, imaginez ! Un violoncelliste, un pianiste, des contes 
 fantastiques au beau milieu de la Nature. C'est ce que vous êtes invité 
 à vivre au cœur d'un Espace naturel sensible. La force des mots et des m
 usiques invitent à la contemplation, à la rêverie.\n\nPrévoir vêtemen
 ts adaptés à la météo et de quoi s'asseoir.
LOCATION:Carrefour du Roi René
Le Guédeniau
DTSTAMP:20260209T153158Z
DTSTART:20260613T115539Z
DTEND:20260613T115539Z
END:VEVENT
END:VCALENDAR