BEGIN:VCALENDAR
VERSION:2.0
PRODID:https://github.com/derhansen/sf_event_mgt
METHOD:PUBLISH
BEGIN:VEVENT
UID:14719-611@www.maine-et-loire.fr
CLASS: PUBLIC
SUMMARY:Illustration botanique
DESCRIPTION:Dans le cadre des Rendez-vous nature 2026.\n\nInitiez-vous Ã  l
 'aquarelle botanique, une approche douce et sensible pour dÃ©couvrir la vÃ
 ©gÃ©tation locale. AccompagnÃ© d'une paysagiste-herboriste, prenez le temp
 s de vous Ã©merveiller, carnet et pinceau Ã  la main.
LOCATION:Le Moulin
Villemoisan
DTSTAMP:20260209T152336Z
DTSTART:20260510T115539Z
DTEND:20260510T115539Z
END:VEVENT
END:VCALENDAR