BEGIN:VCALENDAR
VERSION:2.0
PRODID:https://github.com/derhansen/sf_event_mgt
METHOD:PUBLISH
BEGIN:VEVENT
UID:14691-611@www.maine-et-loire.fr
CLASS: PUBLIC
SUMMARY:Impression vÃ©gÃ©tale
DESCRIPTION:Dans le cadre des Rendez-vous nature 2026.\n\nAnimation dÃ©couv
 erte du vÃ©gÃ©tal et de la flore printaniÃ¨re. Venez vous initier Ã  la re
 connaissance des plantes de la VallÃ©e de lâ€™Ãˆvre, de leurs feuilles et 
 de leurs fleurs. Une sortie pour observer les plantes, sâ€™initier Ã  la r
 econnaissance, la diversitÃ© des formes et rÃ©aliser diffÃ©rents types dâ€
 ™impressions (pastelles, peinture et cyanotype).
LOCATION:Chemin de l'Avoye
Saint-RÃ©my-en-Mauges
DTSTAMP:20260209T151129Z
DTSTART:20260422T115539Z
DTEND:20260422T115539Z
END:VEVENT
END:VCALENDAR