BEGIN:VCALENDAR
VERSION:2.0
PRODID:https://github.com/derhansen/sf_event_mgt
METHOD:PUBLISH
BEGIN:VEVENT
UID:14764-611@www.maine-et-loire.fr
CLASS: PUBLIC
SUMMARY:Insectes
DESCRIPTION:Dans le cadre des Rendez-vous nature 2026.\n\nLes milieux natur
 els spécifiques des Landes du Fuilet accueillent de nombreux insectes. À
  l’aide de filets à papillons, filets fauchoirs, loupes… vous pourrez
  vous émerveiller de la complexité et la diversité de ces petites bête
 s. En effet, leurs modes vie, leurs modes de déplacement, leurs couleurs 
 ou encore leurs régimes alimentaires sont divers et variés. Venez appren
 dre à les reconnaitre et apprécier ce monde étonnant.\n\nPrévoir une l
 ampe torche et des vêtements chauds.
LOCATION:Étang des Bruyères
Rue de l'étang
Le Fuilet
DTSTAMP:20260209T152809Z
DTSTART:20260606T115539Z
DTEND:20260606T115539Z
END:VEVENT
END:VCALENDAR