BEGIN:VCALENDAR
VERSION:2.0
PRODID:https://github.com/derhansen/sf_event_mgt
METHOD:PUBLISH
BEGIN:VEVENT
UID:14736-611@www.maine-et-loire.fr
CLASS: PUBLIC
SUMMARY:Inventaire d'un ENS à découvrir
DESCRIPTION:Dans le cadre des Rendez-vous nature 2026.\n\nVanessa Jousseaum
 e, artiste et scénographe et Clément Braud, guide et naturaliste, s’as
 socient pour vous partager le fruit de leurs réflexions sur la nature et 
 ses beautés. La balade mêle le conte et la science. Elle prend appui sur
  les particularités de chaque site, sa faune et sa flore, mais aussi sur 
 des collections naturalistes insolites, pour vous émerveiller tout en que
 stionnant notre lien au vivant et les enjeux de la biodiversité.
LOCATION:Ferme de l'Abbaye d'Asnières
DTSTAMP:20260209T152509Z
DTSTART:20260523T115539Z
DTEND:20260523T115539Z
END:VEVENT
END:VCALENDAR