BEGIN:VCALENDAR
VERSION:2.0
PRODID:https://github.com/derhansen/sf_event_mgt
METHOD:PUBLISH
BEGIN:VEVENT
UID:14697-611@www.maine-et-loire.fr
CLASS: PUBLIC
SUMMARY:Jardiner avec le vivant
DESCRIPTION:Dans le cadre des Rendez-vous nature 2026.\n\nLors dâ€™une bala
 de avec un paysagiste de Sicle, venez en famille emprunter son regard, exp
 Ã©rimenter ses pratiques techniques et artistiques Ã  la dÃ©couverte du ja
 rdin ZUR et du potager. Est-il possible de construire un jardin et un pota
 ger sur nâ€™importe quel sol ? Quâ€™est-ce quâ€™un sol vivant ? Comment le
  prÃ©server ? Plantez, semez et repartez avec avec votre boule de graines.
  Un moment convivial et dâ€™Ã©changes avec un goÃ»ter est prÃ©vu. GrÃ¢ce Ã
   ces expÃ©riences ludiques et accessibles, vous repartirez avec des clÃ©s
  dâ€™actions Ã  mettre en place prÃ¨s de chez vous pour prÃ©server la biod
 iversitÃ©.
LOCATION:Groupe ZUR 
Rue de la Paperie
DTSTAMP:20260209T151246Z
DTSTART:20260424T115539Z
DTEND:20260424T115539Z
END:VEVENT
END:VCALENDAR