BEGIN:VCALENDAR
VERSION:2.0
PRODID:https://github.com/derhansen/sf_event_mgt
METHOD:PUBLISH
BEGIN:VEVENT
UID:14246-569@www.maine-et-loire.fr
CLASS: PUBLIC
SUMMARY:Je suis ShÃ©hÃ©razade - Cie Le Lapin Blanc
DESCRIPTION:Paroles intimes, faits dâ€™actualitÃ© et grandes figures hÃ©roÃ
 ¯ques se croisent et se rÃ©pondent dans ce seule-en-scÃ¨ne aux allures de 
 manuel de survie pour tenir debout dans ce monde en crise !\n\nMardi 4 aoÃ
 »t 2020, une double explosion sur le port de Beyrouth fait vaciller le Lib
 an et sidÃ¨re la conteuse. Captive devant les Ã©crans, hypnotisÃ©e par les
  images qui reviennent en boucle, elle cherche un chemin au-delÃ Ì€ du cha
 os. Mais comment rÃ©sister aÌ€ la peur et mettre du sens laÌ€ ouÌ€ rÃ¨gne 
 la folie ?\n\nNajoua Darwiche, autrice et interprÃ¨te franco-libanaise, pl
 onge dans lâ€™absurditÃ© de notre monde en quÃªte dâ€™une rÃ©ponse : oÃ¹ t
 rouver la force de continuer Ã  nous battre pour un avenir meilleur ?
LOCATION:ThÃ©Ã¢tre Philippe Noiret
Place des Fontaines
DTSTAMP:20260105T154139Z
DTSTART:20260504T220000Z
DTEND:20260504T220000Z
END:VEVENT
END:VCALENDAR