BEGIN:VCALENDAR
VERSION:2.0
PRODID:https://github.com/derhansen/sf_event_mgt
METHOD:PUBLISH
BEGIN:VEVENT
UID:13502-570@www.maine-et-loire.fr
CLASS: PUBLIC
SUMMARY:Je touche un arbre
DESCRIPTION:Toucher un arbre, c’est vouloir capter son énergie, se resso
 urcer, se relier à la terre. L’arbre vit et traverse le temps. Le temps
  qui ne tient qu’à un fil, le fil des saisons.
LOCATION:Théâtre Philippe Noiret
Place des Fontaines
DTSTAMP:20250606T121715Z
DTSTART:20260512T220000Z
DTEND:20260512T220000Z
END:VEVENT
END:VCALENDAR