BEGIN:VCALENDAR
VERSION:2.0
PRODID:https://github.com/derhansen/sf_event_mgt
METHOD:PUBLISH
BEGIN:VEVENT
UID:14723-611@www.maine-et-loire.fr
CLASS: PUBLIC
SUMMARY:Jeu de piste nature
DESCRIPTION:Dans le cadre des Rendez-vous nature 2026.\n\nAu cours d’un j
 eu de piste en pleine nature, venez résoudre des énigmes en famille au s
 ein de l’espace naturel sensible des Monteaux. Serez-vous à la hauteur 
 de la mission qui vous est confiée ?
LOCATION:Rue du plan d'eau
DTSTAMP:20260209T152358Z
DTSTART:20260520T115539Z
DTEND:20260520T115539Z
END:VEVENT
END:VCALENDAR