BEGIN:VCALENDAR
VERSION:2.0
PRODID:https://github.com/derhansen/sf_event_mgt
METHOD:PUBLISH
BEGIN:VEVENT
UID:14871-611@www.maine-et-loire.fr
CLASS: PUBLIC
SUMMARY:Jeu « zones humides »
DESCRIPTION:Dans le cadre des Rendez-vous nature 2026.\n\nVenez découvrir 
 en famille ou en équipe la Boire Sainte-Catherine et plus largement les z
 ones humides au travers d’un grand jeu sur le site. Faune, flore, rôles
  des zones humides serons abordés au travers de questions, petits jeux et
  épreuves !
LOCATION:Boire Sainte-Catherine
Bouzillé
DTSTAMP:20260209T154230Z
DTSTART:20260905T115540Z
DTEND:20260905T115540Z
END:VEVENT
END:VCALENDAR