BEGIN:VCALENDAR
VERSION:2.0
PRODID:https://github.com/derhansen/sf_event_mgt
METHOD:PUBLISH
BEGIN:VEVENT
UID:14855-611@www.maine-et-loire.fr
CLASS: PUBLIC
SUMMARY:JournÃ©e Â« Ã‚nes et castors Â»
DESCRIPTION:Dans le cadre des Rendez-vous nature 2026.\n\nEn matinÃ©e, vene
 z Ã  la rencontre des Ã¢nes de l'association MÃ©diliane, apprenez Ã  les c
 onnaitre, Ã  les brosser, Ã  les papouiller avant de partir avec eux pour 
 une balade sur les bords de la Loire. L'aprÃ¨s-midi, amusez-vous avec le Â
 « Rallye Castor Â» animÃ© par la LPO. Bois rongÃ©, arbres Ã©corcÃ©s ou aba
 ttus â€¦ ne passez plus Ã  cÃ´tÃ© des traces du Castor d'Eurasie sans les 
 reconnaÃ®tre ! Ce jeu de piste en pleine nature vous permettra de dÃ©couvr
 ir son mode de vie et son installation en Maine-en-Loire.\n\nPrÃ©voir votr
 e pique-nique.
LOCATION:Ferme des coteaux
Saint-Florent-Le-Vieil
DTSTAMP:20260209T154055Z
DTSTART:20260825T115539Z
DTEND:20260825T115539Z
END:VEVENT
END:VCALENDAR