BEGIN:VCALENDAR
VERSION:2.0
PRODID:https://github.com/derhansen/sf_event_mgt
METHOD:PUBLISH
BEGIN:VEVENT
UID:14214-569@www.maine-et-loire.fr
CLASS: PUBLIC
SUMMARY:Journée Fleurs et Abeilles
DESCRIPTION:Journée à la ferme florale avec Daon La Ruche.\n\nVivez une 
 journée immersive au cœur de la nature entre fleurs et abeilles.\n\nAu p
 rogramme :\n\n 	Accueil café ; 	Visite de la ferme florale ; 	Cueillette 
 et atelier bouquet ; 	Pique-nique au bord de l’étang (non fourni) ; 	Im
 mersion apicole avec combinaison ; 	Visite de la ruche ; 	Découverte de l
 ’apiculture ; 	Dégustation de miel d’Anjou. \n\nRepartez avec un bouq
 uet de fleurs fraîches et un pot de miel.
LOCATION:Ferme Florale « L’Etang de Papi » 
630 route de Cussé
DTSTAMP:20251230T081648Z
DTSTART:20260613T220000Z
DTEND:20260613T220000Z
END:VEVENT
END:VCALENDAR