BEGIN:VCALENDAR
VERSION:2.0
PRODID:https://github.com/derhansen/sf_event_mgt
METHOD:PUBLISH
BEGIN:VEVENT
UID:14851-611@www.maine-et-loire.fr
CLASS: PUBLIC
SUMMARY:Kayak and birds
DESCRIPTION:Dans le cadre des Rendez-vous nature 2026.\n\nDécouvrez les Ba
 sses vallées angevines différemment lors de cette animation au coucher d
 u soleil en kayak avec un animateur de la LPO. Trouvez les castors, observ
 ez les oiseaux et débusquez les ragondins lors de cette sortie de 2 h su
 r le Loir.
LOCATION:Cale à bateaux
Villevêque
DTSTAMP:20260209T153938Z
DTSTART:20260822T115539Z
DTEND:20260822T115539Z
END:VEVENT
END:VCALENDAR