BEGIN:VCALENDAR
VERSION:2.0
PRODID:https://github.com/derhansen/sf_event_mgt
METHOD:PUBLISH
BEGIN:VEVENT
UID:15042-1587@www.maine-et-loire.fr
CLASS: PUBLIC
SUMMARY:Keren Ann
DESCRIPTION:Fêtant ses vingt-cinq ans de carrière, la chanteuse, auteure 
 et compositrice Keren Ann fait son retour avec un dixième album très att
 endu : Paris Amour, dans lequel on retrouve sa poésie délicate et ses ba
 lades mélancoliques.
LOCATION:Le Quai CDN
Cale de la Savatte
DTSTAMP:20260203T132048Z
DTSTART:20260430T180000Z
DTEND:20260430T193000Z
END:VEVENT
END:VCALENDAR