BEGIN:VCALENDAR
VERSION:2.0
PRODID:https://github.com/derhansen/sf_event_mgt
METHOD:PUBLISH
BEGIN:VEVENT
UID:13119-569@www.maine-et-loire.fr
CLASS: PUBLIC
SUMMARY:Kompa et Original H
DESCRIPTION:Le célèbre grand orchestre de Kompa@originalh_officielen conc
 ert\n\nSoirée danse et concert :\n\n1h d'initiation au Kompa avec Espéra
 nce N'TADI\n\n1h30 de concert par le groupe Original H - 11 musiciens sur 
 scène !
LOCATION:Espace Longuenée
2336 route du Plessis-Macé
DTSTAMP:20250212T132143Z
DTSTART:20250424T220000Z
DTEND:20250424T220000Z
END:VEVENT
END:VCALENDAR